BEGIN:VCALENDAR
VERSION:2.0
PRODID:-//Beth Isaiah - ECPv6.15.12.2//NONSGML v1.0//EN
CALSCALE:GREGORIAN
METHOD:PUBLISH
X-WR-CALNAME:Beth Isaiah
X-ORIGINAL-URL:https://guelphsynagogue.ca
X-WR-CALDESC:Events for Beth Isaiah
REFRESH-INTERVAL;VALUE=DURATION:PT1H
X-Robots-Tag:noindex
X-PUBLISHED-TTL:PT1H
BEGIN:VTIMEZONE
TZID:America/Toronto
BEGIN:DAYLIGHT
TZOFFSETFROM:-0500
TZOFFSETTO:-0400
TZNAME:EDT
DTSTART:20250309T070000
END:DAYLIGHT
BEGIN:STANDARD
TZOFFSETFROM:-0400
TZOFFSETTO:-0500
TZNAME:EST
DTSTART:20251102T060000
END:STANDARD
BEGIN:DAYLIGHT
TZOFFSETFROM:-0500
TZOFFSETTO:-0400
TZNAME:EDT
DTSTART:20260308T070000
END:DAYLIGHT
BEGIN:STANDARD
TZOFFSETFROM:-0400
TZOFFSETTO:-0500
TZNAME:EST
DTSTART:20261101T060000
END:STANDARD
BEGIN:DAYLIGHT
TZOFFSETFROM:-0500
TZOFFSETTO:-0400
TZNAME:EDT
DTSTART:20270314T070000
END:DAYLIGHT
BEGIN:STANDARD
TZOFFSETFROM:-0400
TZOFFSETTO:-0500
TZNAME:EST
DTSTART:20271107T060000
END:STANDARD
END:VTIMEZONE
BEGIN:VEVENT
DTSTART;TZID=America/Toronto:20260425T103000
DTEND;TZID=America/Toronto:20260425T120000
DTSTAMP:20260421T074433
CREATED:20251113T061153Z
LAST-MODIFIED:20251113T061153Z
UID:1441-1777113000-1777118400@guelphsynagogue.ca
SUMMARY:Beth Isaiah Shabbat Services: April 25th\, 2026
DESCRIPTION:10:30 to 12:00 (Service) \n\n\n\nCantor Cheryl Wunch is Toronto-based and has been leading our Shabbat services once monthly. She provides our congregation with a modern interpretation of rituals and texts through prayer in both Hebrew and English\, as well as her thought-provoking sermons. Our Shabbat service\, which is enjoyed by all ages is musical\, informal\, interactive and engaging. \n\n\n\nAfter 12:00 (lunch) \n\n\n\nOur kiddush lunch following the service is a time to meet as a community in a comfortable setting and enjoy a delicious lunch.
URL:https://guelphsynagogue.ca/event/beth-isaiah-shabbat-services-april-25th-2026/
LOCATION:Beth Isaiah Congregation\, 47 Surrey Street West\, Guelph\, Ontario\, Canada
ATTACH;FMTTYPE=image/jpeg:https://guelphsynagogue.ca/wp-content/uploads/Cantor-Wunch.jpg
END:VEVENT
BEGIN:VEVENT
DTSTART;TZID=America/Toronto:20260523T103000
DTEND;TZID=America/Toronto:20260523T120000
DTSTAMP:20260421T074433
CREATED:20251113T061221Z
LAST-MODIFIED:20260218T085249Z
UID:1443-1779532200-1779537600@guelphsynagogue.ca
SUMMARY:Beth Isaiah Shabbat Services: May 23rd\, 2026
DESCRIPTION:10:30 to 12:00 (Service) \n\n\n\nCantor Cheryl Wunch is Toronto-based and has been leading our Shabbat services once monthly. She provides our congregation with a modern interpretation of rituals and texts through prayer in both Hebrew and English\, as well as her thought-provoking sermons. Our Shabbat service\, which is enjoyed by all ages is musical\, informal\, interactive and engaging. \n\n\n\nAfter 12:00 (lunch) \n\n\n\nOur kiddush lunch following the service is a time to meet as a community in a comfortable setting and enjoy a delicious lunch.
URL:https://guelphsynagogue.ca/event/beth-isaiah-shabbat-services-may-9th-2026/
LOCATION:Beth Isaiah Congregation\, 47 Surrey Street West\, Guelph\, Ontario\, Canada
ATTACH;FMTTYPE=image/jpeg:https://guelphsynagogue.ca/wp-content/uploads/Cantor-Wunch.jpg
END:VEVENT
BEGIN:VEVENT
DTSTART;TZID=America/Toronto:20260620T103000
DTEND;TZID=America/Toronto:20260620T120000
DTSTAMP:20260421T074433
CREATED:20251113T061244Z
LAST-MODIFIED:20260218T085327Z
UID:1445-1781951400-1781956800@guelphsynagogue.ca
SUMMARY:Beth Isaiah Shabbat Services: June 20th\, 2026
DESCRIPTION:10:30 to 12:00 (Service) \n\n\n\nCantor Cheryl Wunch is Toronto-based and has been leading our Shabbat services once monthly. She provides our congregation with a modern interpretation of rituals and texts through prayer in both Hebrew and English\, as well as her thought-provoking sermons. Our Shabbat service\, which is enjoyed by all ages is musical\, informal\, interactive and engaging. \n\n\n\nAfter 12:00 (lunch) \n\n\n\nOur kiddush lunch following the service is a time to meet as a community in a comfortable setting and enjoy a delicious lunch.
URL:https://guelphsynagogue.ca/event/beth-isaiah-shabbat-services-june-13th-2026/
LOCATION:Beth Isaiah Congregation\, 47 Surrey Street West\, Guelph\, Ontario\, Canada
ATTACH;FMTTYPE=image/jpeg:https://guelphsynagogue.ca/wp-content/uploads/Cantor-Wunch.jpg
END:VEVENT
END:VCALENDAR